BEGIN:VCALENDAR
VERSION:2.0
CALSCALE:GREGORIAN
METHOD:PUBLISH
X-WR-TIMEZONE:Australia/Sydney
BEGIN:VTIMEZONE
TZID:Australia/Sydney
BEGIN:STANDARD
TZNAME:AEST
END:STANDARD
END:VTIMEZONE
BEGIN:VEVENT
DTSTART;TZID=Australia/Sydney:20260402T084500
DTEND;TZID=Australia/Sydney:20260402T141500
DTSTAMP:20260424T014922
UID:102
SUMMARY:Last Day Term 1
DESCRIPTION:




Last day of Term 1. School&amp;nbsp;has an early&amp;nbsp;dismissal&amp;nbsp;of 2:15pm. The school bus and OSHC will run at this earlier time.


SEQUENCE:0
STATUS:CONFIRMED
TRANSP:OPAQUE
END:VEVENT
END:VCALENDAR